 
BEGIN:VCALENDAR
VERSION:2.0
PRODID:-//AudioTheme 2.0.2
BEGIN:VEVENT
UID:urn:uuid:ac803ce4-acaf-4b11-b0fa-c85d38ea97cb
URL:https://lawrencedillon.com/performances/gig-1783/
DTSTART;TZID=GMT:20251014T233000
SUMMARY:Brendel Theater, Wake Forest University
DESCRIPTION:Maestro Chelsea Tipton  leads the UNCSA Symphony Orchestra in the premiere of Lawrence Dillon's Vanishing.
LOCATION:Brendel Theater\, Wake Forest University
END:VEVENT
END:VCALENDAR
