 
BEGIN:VCALENDAR
VERSION:2.0
PRODID:-//AudioTheme 2.0.2
BEGIN:VEVENT
UID:urn:uuid:dcf6ef6e-9928-4955-933b-0e0eaff85e12
URL:https://lawrencedillon.com/performances/gig-1781/
DTSTART;TZID=GMT:20250826T180000
SUMMARY:Belzberg Theatre, Banff Centre for Arts and Creativity
DESCRIPTION:The Cong Quartet performs the Canadian premiere of Lawrence Dillon's String Quartet No. 7: Consensus as part of the Banff International String Quartet Competition.
LOCATION:Belzberg Theatre\, Banff Centre for Arts and Creativity
END:VEVENT
END:VCALENDAR
